BEGIN:VCALENDAR
VERSION:2.0
PRODID:-//Foundation Paul van Kemenade - ECPv5.16.1//NONSGML v1.0//EN
CALSCALE:GREGORIAN
METHOD:PUBLISH
X-WR-CALNAME:Foundation Paul van Kemenade
X-ORIGINAL-URL:https://www.paulvankemenade.com
X-WR-CALDESC:Evenementen voor Foundation Paul van Kemenade
BEGIN:VTIMEZONE
TZID:Europe/Paris
BEGIN:DAYLIGHT
TZOFFSETFROM:+0100
TZOFFSETTO:+0200
TZNAME:CEST
DTSTART:20190331T010000
END:DAYLIGHT
BEGIN:STANDARD
TZOFFSETFROM:+0200
TZOFFSETTO:+0100
TZNAME:CET
DTSTART:20191027T010000
END:STANDARD
END:VTIMEZONE
BEGIN:VEVENT
DTSTART;VALUE=DATE:20191223
DTEND;VALUE=DATE:20191231
DTSTAMP:20260423T205323
CREATED:20180601T143330Z
LAST-MODIFIED:20180601T143330Z
UID:12394-1577059200-1577750399@www.paulvankemenade.com
SUMMARY:27th Stranger than Paranoia
DESCRIPTION:Already for the 27th time tin december he intimate festival Stranger than Paranoia ( named after a Van Kemenade composition). Five nights with each night… three different musical disciplines.
URL:https://www.paulvankemenade.com/agenda/27th-stranger-than-paranoia-2/
LOCATION:Paradox Tilburg\, Brebl Nijmegen
END:VEVENT
END:VCALENDAR