BEGIN:VCALENDAR
VERSION:2.0
PRODID:-//Foundation Paul van Kemenade - ECPv5.16.1//NONSGML v1.0//EN
CALSCALE:GREGORIAN
METHOD:PUBLISH
X-WR-CALNAME:Foundation Paul van Kemenade
X-ORIGINAL-URL:https://www.paulvankemenade.com
X-WR-CALDESC:Evenementen voor Foundation Paul van Kemenade
BEGIN:VTIMEZONE
TZID:Europe/Paris
BEGIN:DAYLIGHT
TZOFFSETFROM:+0100
TZOFFSETTO:+0200
TZNAME:CEST
DTSTART:20210328T010000
END:DAYLIGHT
BEGIN:STANDARD
TZOFFSETFROM:+0200
TZOFFSETTO:+0100
TZNAME:CET
DTSTART:20211031T010000
END:STANDARD
END:VTIMEZONE
BEGIN:VEVENT
DTSTART;TZID=Europe/Paris:20210213T150000
DTEND;TZID=Europe/Paris:20210213T170000
DTSTAMP:20260420T120344
CREATED:20210120T150644Z
LAST-MODIFIED:20210208T160531Z
UID:12773-1613228400-1613235600@www.paulvankemenade.com
SUMMARY:28e Stranger than Paranoia 15.00 uur LIVE STREAM Han Bennink-Guus Janssen & trio Portugal-Van 't Hof-Kemenade
DESCRIPTION:Livestream 13 februari middag 15.00 uur (Bennink-Janssen) & Portugal-Van ’t Hof-Kemenade): \n \nLivestream 13 februari avond 19.30 uur (Fraanje-Sylla-Reijseger) & Bonsai Panda: \n \n 
URL:https://www.paulvankemenade.com/agenda/28e-stranger-than-paranoia-middag-duo-han-bennink-guus-janssen-trio-portugal-van-t-hof-kemenade/
LOCATION:Willem Twee Toonzaal\, Den Bosch
END:VEVENT
END:VCALENDAR