BEGIN:VCALENDAR
VERSION:2.0
PRODID:-//Foundation Paul van Kemenade - ECPv5.16.1//NONSGML v1.0//EN
CALSCALE:GREGORIAN
METHOD:PUBLISH
X-WR-CALNAME:Foundation Paul van Kemenade
X-ORIGINAL-URL:https://www.paulvankemenade.com
X-WR-CALDESC:Evenementen voor Foundation Paul van Kemenade
BEGIN:VTIMEZONE
TZID:Europe/Paris
BEGIN:DAYLIGHT
TZOFFSETFROM:+0100
TZOFFSETTO:+0200
TZNAME:CEST
DTSTART:20200329T010000
END:DAYLIGHT
BEGIN:STANDARD
TZOFFSETFROM:+0200
TZOFFSETTO:+0100
TZNAME:CET
DTSTART:20201025T010000
END:STANDARD
END:VTIMEZONE
BEGIN:VEVENT
DTSTART;TZID=Europe/Paris:20201230T203000
DTEND;TZID=Europe/Paris:20201230T233000
DTSTAMP:20260423T212927
CREATED:20200217T151414Z
LAST-MODIFIED:20200217T151414Z
UID:12551-1609360200-1609371000@www.paulvankemenade.com
SUMMARY:28e Stranger than Paranoia (CANCELLED)
DESCRIPTION:2x concert: Trio Mariá Portugal-Jasper van ’t Hof-Paul van Kemenade en concert 2: Stormvogel’s Alter Ego Jazzbarock Consort met Stormvogel (pi-synth-poetry)\, David de Marez Oyens (bass-foot percussion)\, Onno Witte (perc-voc)\, Remko Smid Stahlhosen (ts/bs/ss)\, Twan van Gerven (g) en gast Oene van Geel. \nism Jazz Amersfoort en Stranger than Paranoia
URL:https://www.paulvankemenade.com/agenda/28e-stranger-than-paranoia-optie-2/
LOCATION:De Observant\, Amersfoort
END:VEVENT
END:VCALENDAR