BEGIN:VCALENDAR
VERSION:2.0
PRODID:-//Foundation Paul van Kemenade - ECPv5.16.1//NONSGML v1.0//EN
CALSCALE:GREGORIAN
METHOD:PUBLISH
X-WR-CALNAME:Foundation Paul van Kemenade
X-ORIGINAL-URL:https://www.paulvankemenade.com
X-WR-CALDESC:Evenementen voor Foundation Paul van Kemenade
BEGIN:VTIMEZONE
TZID:Europe/Paris
BEGIN:DAYLIGHT
TZOFFSETFROM:+0100
TZOFFSETTO:+0200
TZNAME:CEST
DTSTART:20210328T010000
END:DAYLIGHT
BEGIN:STANDARD
TZOFFSETFROM:+0200
TZOFFSETTO:+0100
TZNAME:CET
DTSTART:20211031T010000
END:STANDARD
END:VTIMEZONE
BEGIN:VEVENT
DTSTART;TZID=Europe/Paris:20210216T203000
DTEND;TZID=Europe/Paris:20210216T203000
DTSTAMP:20260423T180327
CREATED:20210120T145158Z
LAST-MODIFIED:20210208T165510Z
UID:12768-1613507400-1613507400@www.paulvankemenade.com
SUMMARY:28e Stranger than Paranoia (Portugal-Van 't Hof-Kemenade & ICP Orkest) (CANCELLED) wel LIVE STREAM op 15 februari
DESCRIPTION:Trio Mariá Portugal-Jasper van ’t Hof-Paul van Kemenade\, ICP Orkest met Han Bennink\, Guus Janssen\, Wolter Wierbos\, Tobias Delius\, Ab Baars\, Ernst Glerum\, Mary Oliver\, Michael Moore. \ni.s.m. Paradox\, stichting Van Kemenade en Stranger than Paranoia.
URL:https://www.paulvankemenade.com/agenda/28e-stranger-than-paranoia-portugal-van-t-hof-kemenade-icp-orkest-2/
LOCATION:Paradox\, Telegraafstraat 62\, Tilburg
END:VEVENT
END:VCALENDAR