BEGIN:VCALENDAR
VERSION:2.0
PRODID:-//Foundation Paul van Kemenade - ECPv5.16.1//NONSGML v1.0//EN
CALSCALE:GREGORIAN
METHOD:PUBLISH
X-WR-CALNAME:Foundation Paul van Kemenade
X-ORIGINAL-URL:https://www.paulvankemenade.com
X-WR-CALDESC:Evenementen voor Foundation Paul van Kemenade
BEGIN:VTIMEZONE
TZID:Europe/Paris
BEGIN:DAYLIGHT
TZOFFSETFROM:+0100
TZOFFSETTO:+0200
TZNAME:CEST
DTSTART:20210328T010000
END:DAYLIGHT
BEGIN:STANDARD
TZOFFSETFROM:+0200
TZOFFSETTO:+0100
TZNAME:CET
DTSTART:20211031T010000
END:STANDARD
END:VTIMEZONE
BEGIN:VEVENT
DTSTART;TZID=Europe/Paris:20210215T203000
DTEND;TZID=Europe/Paris:20210215T203000
DTSTAMP:20260423T193054
CREATED:20210120T144812Z
LAST-MODIFIED:20210208T161414Z
UID:12766-1613421000-1613421000@www.paulvankemenade.com
SUMMARY:28e Stranger than Paranoia LIVE STREAM 20.30 uur Portugal-Van 't Hof-Kemenade & ICP Orkest
DESCRIPTION:Live stream concet om 19.30 uur: Mariá Portugal-Jasper van ’t Hof-Paul van Kemenade\, ICP Orkest met Han Bennink\, Guus Janssen\, Wolter Wierbos\, Tobias Delius\, Ab Baars\, Ernst Glerum\, Mary Oliver\, Michael Moore. \n \n  \n 
URL:https://www.paulvankemenade.com/agenda/28e-stranger-than-paranoia-portugal-van-t-hof-kemenade-icp-orkest/
LOCATION:Paradox\, Telegraafstraat 62\, Tilburg
END:VEVENT
END:VCALENDAR