BEGIN:VCALENDAR
VERSION:2.0
PRODID:-//Foundation Paul van Kemenade - ECPv5.16.1//NONSGML v1.0//EN
CALSCALE:GREGORIAN
METHOD:PUBLISH
X-WR-CALNAME:Foundation Paul van Kemenade
X-ORIGINAL-URL:https://www.paulvankemenade.com
X-WR-CALDESC:Evenementen voor Foundation Paul van Kemenade
BEGIN:VTIMEZONE
TZID:Europe/Paris
BEGIN:DAYLIGHT
TZOFFSETFROM:+0100
TZOFFSETTO:+0200
TZNAME:CEST
DTSTART:20200329T010000
END:DAYLIGHT
BEGIN:STANDARD
TZOFFSETFROM:+0200
TZOFFSETTO:+0100
TZNAME:CET
DTSTART:20201025T010000
END:STANDARD
END:VTIMEZONE
BEGIN:VEVENT
DTSTART;TZID=Europe/Paris:20201223T203000
DTEND;TZID=Europe/Paris:20201223T233000
DTSTAMP:20260423T230034
CREATED:20190508T205223Z
LAST-MODIFIED:20201216T170655Z
UID:12501-1608755400-1608766200@www.paulvankemenade.com
SUMMARY:28th Stranger than Paranoia (POSTPONED TO FEBRUARY 16)
DESCRIPTION:2x concert: Trio Mariá Portugal-Jasper van ’t Hof-Paul van Kemenade\, ICP Orkest met Han Bennink\, Guus Janssen\, Wolter Wierbos\, Michael Moore\, Tobias Delius\, Ab Baars\, Mary Oliver\, Tristan Honsinger\, Thomas Heberer\, Ernst Glerum. \ni.s.m. Paradox\, stichting Van Kemenade en Stranger than Paranoia.
URL:https://www.paulvankemenade.com/agenda/28th-stranger-than-paranoia-2-2/
LOCATION:Paradox\, Telegraafstraat 62\, Tilburg
END:VEVENT
END:VCALENDAR