BEGIN:VCALENDAR
VERSION:2.0
PRODID:-//Foundation Paul van Kemenade - ECPv5.16.1//NONSGML v1.0//EN
CALSCALE:GREGORIAN
METHOD:PUBLISH
X-WR-CALNAME:Foundation Paul van Kemenade
X-ORIGINAL-URL:https://www.paulvankemenade.com
X-WR-CALDESC:Evenementen voor Foundation Paul van Kemenade
BEGIN:VTIMEZONE
TZID:Europe/Paris
BEGIN:DAYLIGHT
TZOFFSETFROM:+0100
TZOFFSETTO:+0200
TZNAME:CEST
DTSTART:20210328T010000
END:DAYLIGHT
BEGIN:STANDARD
TZOFFSETFROM:+0200
TZOFFSETTO:+0100
TZNAME:CET
DTSTART:20211031T010000
END:STANDARD
END:VTIMEZONE
BEGIN:VEVENT
DTSTART;TZID=Europe/Paris:20211224T203000
DTEND;TZID=Europe/Paris:20211224T233000
DTSTAMP:20260423T084045
CREATED:20210511T233705Z
LAST-MODIFIED:20211025T105004Z
UID:13403-1640377800-1640388600@www.paulvankemenade.com
SUMMARY:29ste Stranger than Paranoia presenteert: Ruins & Remains & Matangi Quartet; Stadhouders/Creemers; Paul van Kemenade 'classic' Quintet
DESCRIPTION:TICKETS
URL:https://www.paulvankemenade.com/agenda/29ste-stranger-than-paranoia-with-a-o-paul-van-kemenade-classic-quintet/
LOCATION:Brebl / JIN\, Nijmegen
END:VEVENT
END:VCALENDAR