BEGIN:VCALENDAR
VERSION:2.0
PRODID:-//Foundation Paul van Kemenade - ECPv5.16.1//NONSGML v1.0//EN
CALSCALE:GREGORIAN
METHOD:PUBLISH
X-WR-CALNAME:Foundation Paul van Kemenade
X-ORIGINAL-URL:https://www.paulvankemenade.com
X-WR-CALDESC:Evenementen voor Foundation Paul van Kemenade
BEGIN:VTIMEZONE
TZID:Europe/Paris
BEGIN:DAYLIGHT
TZOFFSETFROM:+0100
TZOFFSETTO:+0200
TZNAME:CEST
DTSTART:20190331T010000
END:DAYLIGHT
BEGIN:STANDARD
TZOFFSETFROM:+0200
TZOFFSETTO:+0100
TZNAME:CET
DTSTART:20191027T010000
END:STANDARD
END:VTIMEZONE
BEGIN:VEVENT
DTSTART;TZID=Europe/Paris:20190609T160000
DTEND;TZID=Europe/Paris:20190609T180000
DTSTAMP:20260422T002417
CREATED:20180514T094327Z
LAST-MODIFIED:20181204T085421Z
UID:8551-1560096000-1560103200@www.paulvankemenade.com
SUMMARY:Anderson-Bennink-Glerum-Van Kemenade
DESCRIPTION:New tour with new material with this great quartet with Downbeat Poll winner American trombone player Ray Anderson\, Dutch drumlegend Han Bennink and two Boy Edgar award winners bassist Ernst Glerum and altoist Paul Van Kemenade.
URL:https://www.paulvankemenade.com/agenda/anderson-bennink-glerum-van-kemenade-3/
LOCATION:Tivoli Vredenburg Cloud Nine zaal\, Vredenburgkade 11\, Utrecht
END:VEVENT
END:VCALENDAR