BEGIN:VCALENDAR
VERSION:2.0
PRODID:-//Foundation Paul van Kemenade - ECPv5.16.1//NONSGML v1.0//EN
CALSCALE:GREGORIAN
METHOD:PUBLISH
X-WR-CALNAME:Foundation Paul van Kemenade
X-ORIGINAL-URL:https://www.paulvankemenade.com
X-WR-CALDESC:Evenementen voor Foundation Paul van Kemenade
BEGIN:VTIMEZONE
TZID:Europe/Paris
BEGIN:DAYLIGHT
TZOFFSETFROM:+0100
TZOFFSETTO:+0200
TZNAME:CEST
DTSTART:20190331T010000
END:DAYLIGHT
BEGIN:STANDARD
TZOFFSETFROM:+0200
TZOFFSETTO:+0100
TZNAME:CET
DTSTART:20191027T010000
END:STANDARD
END:VTIMEZONE
BEGIN:VEVENT
DTSTART;TZID=Europe/Paris:20190606T200000
DTEND;TZID=Europe/Paris:20190606T223000
DTSTAMP:20260421T122259
CREATED:20180516T112030Z
LAST-MODIFIED:20180516T112030Z
UID:8582-1559851200-1559860200@www.paulvankemenade.com
SUMMARY:Anderson-Bennink-Glerum-Van Kemenade
DESCRIPTION:
URL:https://www.paulvankemenade.com/agenda/anderson-bennink-glerum-van-kemenade-5/
LOCATION:Sendesaal\, Bürgermeister-Spitta-Allee 45\, Bremen\, 28329\, Duitsland
END:VEVENT
END:VCALENDAR