BEGIN:VCALENDAR
VERSION:2.0
PRODID:-//Foundation Paul van Kemenade - ECPv5.16.1//NONSGML v1.0//EN
CALSCALE:GREGORIAN
METHOD:PUBLISH
X-WR-CALNAME:Foundation Paul van Kemenade
X-ORIGINAL-URL:https://www.paulvankemenade.com
X-WR-CALDESC:Evenementen voor Foundation Paul van Kemenade
BEGIN:VTIMEZONE
TZID:Europe/Paris
BEGIN:DAYLIGHT
TZOFFSETFROM:+0100
TZOFFSETTO:+0200
TZNAME:CEST
DTSTART:20190331T010000
END:DAYLIGHT
BEGIN:STANDARD
TZOFFSETFROM:+0200
TZOFFSETTO:+0100
TZNAME:CET
DTSTART:20191027T010000
END:STANDARD
END:VTIMEZONE
BEGIN:VEVENT
DTSTART;TZID=Europe/Paris:20190602T160000
DTEND;TZID=Europe/Paris:20190602T180000
DTSTAMP:20260425T165918
CREATED:20180610T132426Z
LAST-MODIFIED:20180610T132426Z
UID:8646-1559491200-1559498400@www.paulvankemenade.com
SUMMARY:Anderson-Bennink-Glerum-Van Kemenade
DESCRIPTION:
URL:https://www.paulvankemenade.com/agenda/anderson-bennink-glerum-van-kemenade-6/
LOCATION:Jazzinverdan De Vermaning\, Zaandam
END:VEVENT
END:VCALENDAR