BEGIN:VCALENDAR
VERSION:2.0
PRODID:-//Foundation Paul van Kemenade - ECPv5.16.1//NONSGML v1.0//EN
CALSCALE:GREGORIAN
METHOD:PUBLISH
X-WR-CALNAME:Foundation Paul van Kemenade
X-ORIGINAL-URL:https://www.paulvankemenade.com
X-WR-CALDESC:Evenementen voor Foundation Paul van Kemenade
BEGIN:VTIMEZONE
TZID:Europe/Paris
BEGIN:DAYLIGHT
TZOFFSETFROM:+0100
TZOFFSETTO:+0200
TZNAME:CEST
DTSTART:20220327T010000
END:DAYLIGHT
BEGIN:STANDARD
TZOFFSETFROM:+0200
TZOFFSETTO:+0100
TZNAME:CET
DTSTART:20221030T010000
END:STANDARD
END:VTIMEZONE
BEGIN:VEVENT
DTSTART;TZID=Europe/Paris:20220530T080000
DTEND;TZID=Europe/Paris:20220530T170000
DTSTAMP:20260421T235111
CREATED:20210423T211234Z
LAST-MODIFIED:20210423T211234Z
UID:13316-1653897600-1653930000@www.paulvankemenade.com
SUMMARY:De Stilte & Busch-Van Kemenade 'Mankind'
DESCRIPTION:
URL:https://www.paulvankemenade.com/agenda/de-stilte-busch-van-kemenade-mankind-10/
LOCATION:Theater de Tiliander\, Oisterwijk
END:VEVENT
END:VCALENDAR