BEGIN:VCALENDAR
VERSION:2.0
PRODID:-//Foundation Paul van Kemenade - ECPv5.16.1//NONSGML v1.0//EN
CALSCALE:GREGORIAN
METHOD:PUBLISH
X-WR-CALNAME:Foundation Paul van Kemenade
X-ORIGINAL-URL:https://www.paulvankemenade.com
X-WR-CALDESC:Evenementen voor Foundation Paul van Kemenade
BEGIN:VTIMEZONE
TZID:Europe/Paris
BEGIN:DAYLIGHT
TZOFFSETFROM:+0100
TZOFFSETTO:+0200
TZNAME:CEST
DTSTART:20210328T010000
END:DAYLIGHT
BEGIN:STANDARD
TZOFFSETFROM:+0200
TZOFFSETTO:+0100
TZNAME:CET
DTSTART:20211031T010000
END:STANDARD
END:VTIMEZONE
BEGIN:VEVENT
DTSTART;TZID=Europe/Paris:20210123T160000
DTEND;TZID=Europe/Paris:20210123T170000
DTSTAMP:20260422T005906
CREATED:20200410T205640Z
LAST-MODIFIED:20210108T162216Z
UID:12568-1611417600-1611421200@www.paulvankemenade.com
SUMMARY:De Stilte & Busch - Van Kemenade  'Mankind' (CANCELLED)
DESCRIPTION:
URL:https://www.paulvankemenade.com/agenda/de-stilte-busch-van-kemenade-mankind-5-2/
LOCATION:De Krakeling\, Amsterdam
END:VEVENT
END:VCALENDAR