BEGIN:VCALENDAR
VERSION:2.0
PRODID:-//Foundation Paul van Kemenade - ECPv5.16.1//NONSGML v1.0//EN
CALSCALE:GREGORIAN
METHOD:PUBLISH
X-WR-CALNAME:Foundation Paul van Kemenade
X-ORIGINAL-URL:https://www.paulvankemenade.com
X-WR-CALDESC:Evenementen voor Foundation Paul van Kemenade
BEGIN:VTIMEZONE
TZID:Europe/Paris
BEGIN:DAYLIGHT
TZOFFSETFROM:+0100
TZOFFSETTO:+0200
TZNAME:CEST
DTSTART:20210328T010000
END:DAYLIGHT
BEGIN:STANDARD
TZOFFSETFROM:+0200
TZOFFSETTO:+0100
TZNAME:CET
DTSTART:20211031T010000
END:STANDARD
END:VTIMEZONE
BEGIN:VEVENT
DTSTART;TZID=Europe/Paris:20210625T103000
DTEND;TZID=Europe/Paris:20210625T113000
DTSTAMP:20260420T115615
CREATED:20210216T233543Z
LAST-MODIFIED:20210423T205740Z
UID:12846-1624617000-1624620600@www.paulvankemenade.com
SUMMARY:De Stilte & Busch-Van Kemenade 'Mankind' (CANCELLED)
DESCRIPTION:
URL:https://www.paulvankemenade.com/agenda/de-stilte-busch-van-kemenade-mankind-7/
LOCATION:Tiliander Theater\, Oisterwijk
END:VEVENT
END:VCALENDAR