BEGIN:VCALENDAR
VERSION:2.0
PRODID:-//Foundation Paul van Kemenade - ECPv5.16.1//NONSGML v1.0//EN
CALSCALE:GREGORIAN
METHOD:PUBLISH
X-WR-CALNAME:Foundation Paul van Kemenade
X-ORIGINAL-URL:https://www.paulvankemenade.com
X-WR-CALDESC:Evenementen voor Foundation Paul van Kemenade
BEGIN:VTIMEZONE
TZID:Europe/Paris
BEGIN:DAYLIGHT
TZOFFSETFROM:+0100
TZOFFSETTO:+0200
TZNAME:CEST
DTSTART:20230326T010000
END:DAYLIGHT
BEGIN:STANDARD
TZOFFSETFROM:+0200
TZOFFSETTO:+0100
TZNAME:CET
DTSTART:20231029T010000
END:STANDARD
END:VTIMEZONE
BEGIN:VEVENT
DTSTART;TZID=Europe/Paris:20230624T200000
DTEND;TZID=Europe/Paris:20230624T210000
DTSTAMP:20260422T174813
CREATED:20230315T141954Z
LAST-MODIFIED:20230315T141954Z
UID:14467-1687636800-1687640400@www.paulvankemenade.com
SUMMARY:De Stilte 'Mankind' & Busch - Van Kemenade
DESCRIPTION:
URL:https://www.paulvankemenade.com/agenda/de-stilte-mankind-busch-van-kemenade-8/
LOCATION:Grote Kerk Breda\, Breda
END:VEVENT
END:VCALENDAR