BEGIN:VCALENDAR
VERSION:2.0
PRODID:-//Foundation Paul van Kemenade - ECPv5.16.1//NONSGML v1.0//EN
CALSCALE:GREGORIAN
METHOD:PUBLISH
X-WR-CALNAME:Foundation Paul van Kemenade
X-ORIGINAL-URL:https://www.paulvankemenade.com
X-WR-CALDESC:Evenementen voor Foundation Paul van Kemenade
BEGIN:VTIMEZONE
TZID:Europe/Paris
BEGIN:DAYLIGHT
TZOFFSETFROM:+0100
TZOFFSETTO:+0200
TZNAME:CEST
DTSTART:20200329T010000
END:DAYLIGHT
BEGIN:STANDARD
TZOFFSETFROM:+0200
TZOFFSETTO:+0100
TZNAME:CET
DTSTART:20201025T010000
END:STANDARD
END:VTIMEZONE
BEGIN:VEVENT
DTSTART;VALUE=DATE:20201016
DTEND;VALUE=DATE:20201024
DTSTAMP:20260423T211621
CREATED:20191122T020453Z
LAST-MODIFIED:20200410T205328Z
UID:10623-1602806400-1603443600@www.paulvankemenade.com
SUMMARY:De Stilte 'Mankind'& Duo Busch - Van Kemenade (2x) CANCELLED
DESCRIPTION:
URL:https://www.paulvankemenade.com/agenda/de-stilte-mankind-duo-busch-van-kemenade/
LOCATION:Festival Airl oronbFest\, Vinnitsa\, Oekraïne
END:VEVENT
END:VCALENDAR