BEGIN:VCALENDAR
VERSION:2.0
PRODID:-//Foundation Paul van Kemenade - ECPv5.16.1//NONSGML v1.0//EN
CALSCALE:GREGORIAN
METHOD:PUBLISH
X-WR-CALNAME:Foundation Paul van Kemenade
X-ORIGINAL-URL:https://www.paulvankemenade.com
X-WR-CALDESC:Evenementen voor Foundation Paul van Kemenade
BEGIN:VTIMEZONE
TZID:Europe/Paris
BEGIN:DAYLIGHT
TZOFFSETFROM:+0100
TZOFFSETTO:+0200
TZNAME:CEST
DTSTART:20190331T010000
END:DAYLIGHT
BEGIN:STANDARD
TZOFFSETFROM:+0200
TZOFFSETTO:+0100
TZNAME:CET
DTSTART:20191027T010000
END:STANDARD
END:VTIMEZONE
BEGIN:VEVENT
DTSTART;TZID=Europe/Paris:20190221T133000
DTEND;TZID=Europe/Paris:20190221T143000
DTSTAMP:20260426T051045
CREATED:20180502T105518Z
LAST-MODIFIED:20180502T105518Z
UID:12347-1550755800-1550759400@www.paulvankemenade.com
SUMMARY:De Stilte 'Mankind' & Van Kemenade - Busch
DESCRIPTION:6+ voorstelling met dansgezelschap De Stilte.
URL:https://www.paulvankemenade.com/agenda/de-stilte-mankind-van-kemenade-busch-10-2/
LOCATION:Theater De Stilte\, Breda
END:VEVENT
END:VCALENDAR