BEGIN:VCALENDAR
VERSION:2.0
PRODID:-//Foundation Paul van Kemenade - ECPv5.16.1//NONSGML v1.0//EN
CALSCALE:GREGORIAN
METHOD:PUBLISH
X-WR-CALNAME:Foundation Paul van Kemenade
X-ORIGINAL-URL:https://www.paulvankemenade.com
X-WR-CALDESC:Evenementen voor Foundation Paul van Kemenade
BEGIN:VTIMEZONE
TZID:Europe/Paris
BEGIN:DAYLIGHT
TZOFFSETFROM:+0100
TZOFFSETTO:+0200
TZNAME:CEST
DTSTART:20190331T010000
END:DAYLIGHT
BEGIN:STANDARD
TZOFFSETFROM:+0200
TZOFFSETTO:+0100
TZNAME:CET
DTSTART:20191027T010000
END:STANDARD
END:VTIMEZONE
BEGIN:VEVENT
DTSTART;TZID=Europe/Paris:20190226T103000
DTEND;TZID=Europe/Paris:20190226T103000
DTSTAMP:20260426T015735
CREATED:20180502T110200Z
LAST-MODIFIED:20180502T110200Z
UID:12351-1551177000-1551177000@www.paulvankemenade.com
SUMMARY:De Stilte 'Mankind' & Van Kemenade - Busch
DESCRIPTION:Twee 6+ voorstellingen in theater De Stilte in Breda om 10.30 en om 13.30 uur
URL:https://www.paulvankemenade.com/agenda/de-stilte-mankind-van-kemenade-busch-14-2/
LOCATION:Theater De Stilte\, Breda
END:VEVENT
END:VCALENDAR