BEGIN:VCALENDAR
VERSION:2.0
PRODID:-//Foundation Paul van Kemenade - ECPv5.16.1//NONSGML v1.0//EN
CALSCALE:GREGORIAN
METHOD:PUBLISH
X-WR-CALNAME:Foundation Paul van Kemenade
X-ORIGINAL-URL:https://www.paulvankemenade.com
X-WR-CALDESC:Evenementen voor Foundation Paul van Kemenade
BEGIN:VTIMEZONE
TZID:Europe/Paris
BEGIN:DAYLIGHT
TZOFFSETFROM:+0100
TZOFFSETTO:+0200
TZNAME:CEST
DTSTART:20200329T010000
END:DAYLIGHT
BEGIN:STANDARD
TZOFFSETFROM:+0200
TZOFFSETTO:+0100
TZNAME:CET
DTSTART:20201025T010000
END:STANDARD
END:VTIMEZONE
BEGIN:VEVENT
DTSTART;VALUE=DATE:20200310
DTEND;VALUE=DATE:20200311
DTSTAMP:20260424T190311
CREATED:20190328T212636Z
LAST-MODIFIED:20190627T162538Z
UID:9312-1583798400-1583884799@www.paulvankemenade.com
SUMMARY:De Stilte Mankind & Van Kemenade - Busch
DESCRIPTION:2x performance for 6+ ‘Mankind’ 3 dancers & 2 jazzmusicians Van Kemenade – Busch
URL:https://www.paulvankemenade.com/agenda/de-stilte-mankind-van-kemenade-busch-18/
LOCATION:Theater De Voorste Vennen\, Drunen
END:VEVENT
END:VCALENDAR