BEGIN:VCALENDAR
VERSION:2.0
PRODID:-//Foundation Paul van Kemenade - ECPv5.16.1//NONSGML v1.0//EN
CALSCALE:GREGORIAN
METHOD:PUBLISH
X-WR-CALNAME:Foundation Paul van Kemenade
X-ORIGINAL-URL:https://www.paulvankemenade.com
X-WR-CALDESC:Evenementen voor Foundation Paul van Kemenade
BEGIN:VTIMEZONE
TZID:Europe/Paris
BEGIN:DAYLIGHT
TZOFFSETFROM:+0100
TZOFFSETTO:+0200
TZNAME:CEST
DTSTART:20190331T010000
END:DAYLIGHT
BEGIN:STANDARD
TZOFFSETFROM:+0200
TZOFFSETTO:+0100
TZNAME:CET
DTSTART:20191027T010000
END:STANDARD
END:VTIMEZONE
BEGIN:VEVENT
DTSTART;TZID=Europe/Paris:20190331T140000
DTEND;TZID=Europe/Paris:20190331T140000
DTSTAMP:20260425T235823
CREATED:20180502T111014Z
LAST-MODIFIED:20180502T111014Z
UID:12355-1554040800-1554040800@www.paulvankemenade.com
SUMMARY:De Stilte 'Mankind' & Van Kemenade - Busch
DESCRIPTION:een serie 6+ voorstellingen met dans De Stilte.
URL:https://www.paulvankemenade.com/agenda/de-stilte-mankind-van-kemenade-busch-20-2/
LOCATION:Parkstad Limburg Theaters Heerlen – KZ\, Heerlen
END:VEVENT
END:VCALENDAR