BEGIN:VCALENDAR
VERSION:2.0
PRODID:-//Foundation Paul van Kemenade - ECPv5.16.1//NONSGML v1.0//EN
CALSCALE:GREGORIAN
METHOD:PUBLISH
X-WR-CALNAME:Foundation Paul van Kemenade
X-ORIGINAL-URL:https://www.paulvankemenade.com
X-WR-CALDESC:Evenementen voor Foundation Paul van Kemenade
BEGIN:VTIMEZONE
TZID:Europe/Paris
BEGIN:DAYLIGHT
TZOFFSETFROM:+0100
TZOFFSETTO:+0200
TZNAME:CEST
DTSTART:20190331T010000
END:DAYLIGHT
BEGIN:STANDARD
TZOFFSETFROM:+0200
TZOFFSETTO:+0100
TZNAME:CET
DTSTART:20191027T010000
END:STANDARD
END:VTIMEZONE
BEGIN:VEVENT
DTSTART;TZID=Europe/Paris:20190611T103000
DTEND;TZID=Europe/Paris:20190611T113000
DTSTAMP:20260421T231125
CREATED:20180502T111424Z
LAST-MODIFIED:20190528T225649Z
UID:8498-1560249000-1560252600@www.paulvankemenade.com
SUMMARY:De Stilte 'Mankind' & Van Kemenade - Busch
DESCRIPTION:De 6+ voorstelling op het Brabants Internationaal Kinder Festival in Breda
URL:https://www.paulvankemenade.com/agenda/de-stilte-mankind-van-kemenade-busch-23/
LOCATION:Chasse Theater\, Claudius Prinsenlaan 8\, Breda
END:VEVENT
END:VCALENDAR