BEGIN:VCALENDAR
VERSION:2.0
PRODID:-//Foundation Paul van Kemenade - ECPv5.16.1//NONSGML v1.0//EN
CALSCALE:GREGORIAN
METHOD:PUBLISH
X-WR-CALNAME:Foundation Paul van Kemenade
X-ORIGINAL-URL:https://www.paulvankemenade.com
X-WR-CALDESC:Evenementen voor Foundation Paul van Kemenade
BEGIN:VTIMEZONE
TZID:Europe/Paris
BEGIN:DAYLIGHT
TZOFFSETFROM:+0100
TZOFFSETTO:+0200
TZNAME:CEST
DTSTART:20210328T010000
END:DAYLIGHT
BEGIN:STANDARD
TZOFFSETFROM:+0200
TZOFFSETTO:+0100
TZNAME:CET
DTSTART:20211031T010000
END:STANDARD
END:VTIMEZONE
BEGIN:VEVENT
DTSTART;TZID=Europe/Paris:20210223T080000
DTEND;TZID=Europe/Paris:20210223T170000
DTSTAMP:20260420T110629
CREATED:20201016T122935Z
LAST-MODIFIED:20210207T034421Z
UID:12600-1614067200-1614099600@www.paulvankemenade.com
SUMMARY:De Stilte & Van Kemenade-Busch 'Mankind' (CANCELLED)
DESCRIPTION:
URL:https://www.paulvankemenade.com/agenda/de-stilte-van-kemenade-busch-mankind-6-2/
LOCATION:Maas Theater Rotterdam\, Rotterdam
END:VEVENT
END:VCALENDAR