BEGIN:VCALENDAR
VERSION:2.0
PRODID:-//Foundation Paul van Kemenade - ECPv5.16.1//NONSGML v1.0//EN
CALSCALE:GREGORIAN
METHOD:PUBLISH
X-WR-CALNAME:Foundation Paul van Kemenade
X-ORIGINAL-URL:https://www.paulvankemenade.com
X-WR-CALDESC:Evenementen voor Foundation Paul van Kemenade
BEGIN:VTIMEZONE
TZID:Europe/Paris
BEGIN:DAYLIGHT
TZOFFSETFROM:+0100
TZOFFSETTO:+0200
TZNAME:CEST
DTSTART:20200329T010000
END:DAYLIGHT
BEGIN:STANDARD
TZOFFSETFROM:+0200
TZOFFSETTO:+0100
TZNAME:CET
DTSTART:20201025T010000
END:STANDARD
END:VTIMEZONE
BEGIN:VEVENT
DTSTART;VALUE=DATE:20200602
DTEND;VALUE=DATE:20200603
DTSTAMP:20260421T205725
CREATED:20200715T112159Z
LAST-MODIFIED:20200715T112159Z
UID:11363-1591056000-1591142399@www.paulvankemenade.com
SUMMARY:Duo Budha Building & Van Kemenade Cultuur in Actie
DESCRIPTION:Fabrique Utrecht
URL:https://www.paulvankemenade.com/agenda/duo-budha-building-van-kemenade-cultuur-in-actie/
LOCATION:Fabrique Utrecht\, Utrecht
END:VEVENT
END:VCALENDAR