BEGIN:VCALENDAR
VERSION:2.0
PRODID:-//Foundation Paul van Kemenade - ECPv5.16.1//NONSGML v1.0//EN
CALSCALE:GREGORIAN
METHOD:PUBLISH
X-WR-CALNAME:Foundation Paul van Kemenade
X-ORIGINAL-URL:https://www.paulvankemenade.com
X-WR-CALDESC:Evenementen voor Foundation Paul van Kemenade
BEGIN:VTIMEZONE
TZID:Europe/Paris
BEGIN:DAYLIGHT
TZOFFSETFROM:+0100
TZOFFSETTO:+0200
TZNAME:CEST
DTSTART:20190331T010000
END:DAYLIGHT
BEGIN:STANDARD
TZOFFSETFROM:+0200
TZOFFSETTO:+0100
TZNAME:CET
DTSTART:20191027T010000
END:STANDARD
END:VTIMEZONE
BEGIN:VEVENT
DTSTART;TZID=Europe/Paris:20190407T140000
DTEND;TZID=Europe/Paris:20190407T180000
DTSTAMP:20260425T223741
CREATED:20180707T032823Z
LAST-MODIFIED:20180707T032823Z
UID:8715-1554645600-1554660000@www.paulvankemenade.com
SUMMARY:Duo Jasper van 't Hof - Paul van Kemenade
DESCRIPTION:
URL:https://www.paulvankemenade.com/agenda/duo-jasper-van-t-hof-paul-van-kemenade-3/
LOCATION:Kerk Feerwerd\, Feerwerd
END:VEVENT
END:VCALENDAR