BEGIN:VCALENDAR
VERSION:2.0
PRODID:-//Foundation Paul van Kemenade - ECPv5.16.1//NONSGML v1.0//EN
CALSCALE:GREGORIAN
METHOD:PUBLISH
X-WR-CALNAME:Foundation Paul van Kemenade
X-ORIGINAL-URL:https://www.paulvankemenade.com
X-WR-CALDESC:Evenementen voor Foundation Paul van Kemenade
BEGIN:VTIMEZONE
TZID:Europe/Paris
BEGIN:DAYLIGHT
TZOFFSETFROM:+0100
TZOFFSETTO:+0200
TZNAME:CEST
DTSTART:20220327T010000
END:DAYLIGHT
BEGIN:STANDARD
TZOFFSETFROM:+0200
TZOFFSETTO:+0100
TZNAME:CET
DTSTART:20221030T010000
END:STANDARD
END:VTIMEZONE
BEGIN:VEVENT
DTSTART;TZID=Europe/Paris:20220506T080000
DTEND;TZID=Europe/Paris:20220506T170000
DTSTAMP:20260423T054127
CREATED:20210810T144701Z
LAST-MODIFIED:20210810T144701Z
UID:13465-1651824000-1651856400@www.paulvankemenade.com
SUMMARY:Duo Paul van Kemenade - Jasper van 't Hof
DESCRIPTION:
URL:https://www.paulvankemenade.com/agenda/duo-paul-van-kemenade-jasper-van-t-hof/
LOCATION:Rosetum Festival\, Milano\, Italië
END:VEVENT
END:VCALENDAR