BEGIN:VCALENDAR
VERSION:2.0
PRODID:-//Foundation Paul van Kemenade - ECPv5.16.1//NONSGML v1.0//EN
CALSCALE:GREGORIAN
METHOD:PUBLISH
X-WR-CALNAME:Foundation Paul van Kemenade
X-ORIGINAL-URL:https://www.paulvankemenade.com
X-WR-CALDESC:Evenementen voor Foundation Paul van Kemenade
BEGIN:VTIMEZONE
TZID:Europe/Paris
BEGIN:DAYLIGHT
TZOFFSETFROM:+0100
TZOFFSETTO:+0200
TZNAME:CEST
DTSTART:20210328T010000
END:DAYLIGHT
BEGIN:STANDARD
TZOFFSETFROM:+0200
TZOFFSETTO:+0100
TZNAME:CET
DTSTART:20211031T010000
END:STANDARD
END:VTIMEZONE
BEGIN:VEVENT
DTSTART;TZID=Europe/Paris:20211107T150000
DTEND;TZID=Europe/Paris:20211107T170000
DTSTAMP:20260423T100344
CREATED:20211025T091631Z
LAST-MODIFIED:20211025T091716Z
UID:13570-1636297200-1636304400@www.paulvankemenade.com
SUMMARY:Duo Stevko Busch - Paul van Kemenade
DESCRIPTION:Het piano – altsax duo dat al sinds 1995 samenspeelt in een nieuw programma \nTickets
URL:https://www.paulvankemenade.com/agenda/duo-stevko-busch-paul-van-kemenade-18/
LOCATION:Jazz Sunday Oosterbeek\, Oosterbeek
END:VEVENT
END:VCALENDAR