BEGIN:VCALENDAR
VERSION:2.0
PRODID:-//Foundation Paul van Kemenade - ECPv5.16.1//NONSGML v1.0//EN
CALSCALE:GREGORIAN
METHOD:PUBLISH
X-WR-CALNAME:Foundation Paul van Kemenade
X-ORIGINAL-URL:https://www.paulvankemenade.com
X-WR-CALDESC:Evenementen voor Foundation Paul van Kemenade
BEGIN:VTIMEZONE
TZID:Europe/Paris
BEGIN:DAYLIGHT
TZOFFSETFROM:+0100
TZOFFSETTO:+0200
TZNAME:CEST
DTSTART:20220327T010000
END:DAYLIGHT
BEGIN:STANDARD
TZOFFSETFROM:+0200
TZOFFSETTO:+0100
TZNAME:CET
DTSTART:20221030T010000
END:STANDARD
END:VTIMEZONE
BEGIN:VEVENT
DTSTART;TZID=Europe/Paris:20221106T150000
DTEND;TZID=Europe/Paris:20221106T180000
DTSTAMP:20260423T005939
CREATED:20220925T084353Z
LAST-MODIFIED:20220925T084353Z
UID:14075-1667746800-1667757600@www.paulvankemenade.com
SUMMARY:Duo Stevko Busch - Paul van Kemenade
DESCRIPTION:
URL:https://www.paulvankemenade.com/agenda/duo-stevko-busch-paul-van-kemenade-20/
LOCATION:Jazz On The Sofa\, Zeist
END:VEVENT
END:VCALENDAR