BEGIN:VCALENDAR
VERSION:2.0
PRODID:-//Foundation Paul van Kemenade - ECPv5.16.1//NONSGML v1.0//EN
CALSCALE:GREGORIAN
METHOD:PUBLISH
X-WR-CALNAME:Foundation Paul van Kemenade
X-ORIGINAL-URL:https://www.paulvankemenade.com
X-WR-CALDESC:Evenementen voor Foundation Paul van Kemenade
BEGIN:VTIMEZONE
TZID:Europe/Paris
BEGIN:DAYLIGHT
TZOFFSETFROM:+0100
TZOFFSETTO:+0200
TZNAME:CEST
DTSTART:20230326T010000
END:DAYLIGHT
BEGIN:STANDARD
TZOFFSETFROM:+0200
TZOFFSETTO:+0100
TZNAME:CET
DTSTART:20231029T010000
END:STANDARD
END:VTIMEZONE
BEGIN:VEVENT
DTSTART;TZID=Europe/Paris:20230819T150000
DTEND;TZID=Europe/Paris:20230819T161500
DTSTAMP:20260421T195711
CREATED:20230117T110902Z
LAST-MODIFIED:20230117T134532Z
UID:14264-1692457200-1692461700@www.paulvankemenade.com
SUMMARY:Duo Stevko Busch - Paul van Kemenade
DESCRIPTION:
URL:https://www.paulvankemenade.com/agenda/duo-stevko-busch-paul-van-kemenade-21/
LOCATION:Sint Aegtenkapel Amersfoort Jazz Festival\, 't Zand 37\, Amersfoort
END:VEVENT
END:VCALENDAR