BEGIN:VCALENDAR
VERSION:2.0
PRODID:-//Foundation Paul van Kemenade - ECPv5.16.1//NONSGML v1.0//EN
CALSCALE:GREGORIAN
METHOD:PUBLISH
X-WR-CALNAME:Foundation Paul van Kemenade
X-ORIGINAL-URL:https://www.paulvankemenade.com
X-WR-CALDESC:Evenementen voor Foundation Paul van Kemenade
BEGIN:VTIMEZONE
TZID:Europe/Paris
BEGIN:DAYLIGHT
TZOFFSETFROM:+0100
TZOFFSETTO:+0200
TZNAME:CEST
DTSTART:20200329T010000
END:DAYLIGHT
BEGIN:STANDARD
TZOFFSETFROM:+0200
TZOFFSETTO:+0100
TZNAME:CET
DTSTART:20201025T010000
END:STANDARD
END:VTIMEZONE
BEGIN:VEVENT
DTSTART;VALUE=DATE:20200413
DTEND;VALUE=DATE:20200414
DTSTAMP:20260424T153759
CREATED:20190202T063511Z
LAST-MODIFIED:20200327T223628Z
UID:9168-1586736000-1586822399@www.paulvankemenade.com
SUMMARY:Four Horns & A Piano Jasper van 't Hof (CANCELLED)
DESCRIPTION:Ilja Reingoud\, Dick de Graaf\, Tineke Postma\, Paul van Kemenade & Jasper van ’t Hof i.h.k.v Van ’t Hof’s Boy Edgar prijs
URL:https://www.paulvankemenade.com/agenda/four-horns-a-piano-jasper-van-t-hof-2/
LOCATION:Tivoli Vredenburg
END:VEVENT
END:VCALENDAR