BEGIN:VCALENDAR
VERSION:2.0
PRODID:-//Foundation Paul van Kemenade - ECPv5.16.1//NONSGML v1.0//EN
CALSCALE:GREGORIAN
METHOD:PUBLISH
X-WR-CALNAME:Foundation Paul van Kemenade
X-ORIGINAL-URL:https://www.paulvankemenade.com
X-WR-CALDESC:Evenementen voor Foundation Paul van Kemenade
BEGIN:VTIMEZONE
TZID:Europe/Paris
BEGIN:DAYLIGHT
TZOFFSETFROM:+0100
TZOFFSETTO:+0200
TZNAME:CEST
DTSTART:20190331T010000
END:DAYLIGHT
BEGIN:STANDARD
TZOFFSETFROM:+0200
TZOFFSETTO:+0100
TZNAME:CET
DTSTART:20191027T010000
END:STANDARD
END:VTIMEZONE
BEGIN:VEVENT
DTSTART;TZID=Europe/Paris:20190614T203000
DTEND;TZID=Europe/Paris:20190614T230000
DTSTAMP:20260421T041605
CREATED:20190312T135026Z
LAST-MODIFIED:20190312T135026Z
UID:9198-1560544200-1560553200@www.paulvankemenade.com
SUMMARY:Hammond Sandwich ( De Wijs-Krijger-Strik-Doomernik-Van Kemenade)
DESCRIPTION:Zeeuwse Jazzdagen Middelburg
URL:https://www.paulvankemenade.com/agenda/hammond-sandwich-de-wijs-krijger-strik-doomernik-van-kemenade-2/
LOCATION:De Spot\, Middelburg
END:VEVENT
END:VCALENDAR