BEGIN:VCALENDAR
VERSION:2.0
PRODID:-//Foundation Paul van Kemenade - ECPv5.16.1//NONSGML v1.0//EN
CALSCALE:GREGORIAN
METHOD:PUBLISH
X-WR-CALNAME:Foundation Paul van Kemenade
X-ORIGINAL-URL:https://www.paulvankemenade.com
X-WR-CALDESC:Evenementen voor Foundation Paul van Kemenade
BEGIN:VTIMEZONE
TZID:Europe/Paris
BEGIN:DAYLIGHT
TZOFFSETFROM:+0100
TZOFFSETTO:+0200
TZNAME:CEST
DTSTART:20190331T010000
END:DAYLIGHT
BEGIN:STANDARD
TZOFFSETFROM:+0200
TZOFFSETTO:+0100
TZNAME:CET
DTSTART:20191027T010000
END:STANDARD
END:VTIMEZONE
BEGIN:VEVENT
DTSTART;VALUE=DATE:20190425
DTEND;VALUE=DATE:20190429
DTSTAMP:20260423T204703
CREATED:20180915T145222Z
LAST-MODIFIED:20180915T145222Z
UID:12426-1556150400-1556495999@www.paulvankemenade.com
SUMMARY:Jazzahead Bremen
DESCRIPTION:We are attending Jazzahead Bremen again from 25 – 28 april 2019. Our stand will be…..
URL:https://www.paulvankemenade.com/agenda/jazzahead-bremen-4-2/
LOCATION:Jazzahead Messe Bremen\, Findorffstrasse 101\, Bfremen\, Duitsland
END:VEVENT
END:VCALENDAR