BEGIN:VCALENDAR
VERSION:2.0
PRODID:-//Foundation Paul van Kemenade - ECPv5.16.1//NONSGML v1.0//EN
CALSCALE:GREGORIAN
METHOD:PUBLISH
X-WR-CALNAME:Foundation Paul van Kemenade
X-ORIGINAL-URL:https://www.paulvankemenade.com
X-WR-CALDESC:Evenementen voor Foundation Paul van Kemenade
BEGIN:VTIMEZONE
TZID:Europe/Paris
BEGIN:DAYLIGHT
TZOFFSETFROM:+0100
TZOFFSETTO:+0200
TZNAME:CEST
DTSTART:20200329T010000
END:DAYLIGHT
BEGIN:STANDARD
TZOFFSETFROM:+0200
TZOFFSETTO:+0100
TZNAME:CET
DTSTART:20201025T010000
END:STANDARD
END:VTIMEZONE
BEGIN:VEVENT
DTSTART;VALUE=DATE:20200423
DTEND;VALUE=DATE:20200426
DTSTAMP:20260424T153553
CREATED:20190509T025111Z
LAST-MODIFIED:20190509T025111Z
UID:12504-1587600000-1587859199@www.paulvankemenade.com
SUMMARY:Jazzahead Bremen CANCELLED
DESCRIPTION:Booth 6F20 hall Messe Bremen (Germany)
URL:https://www.paulvankemenade.com/agenda/jazzahead-bremen-5-2/
LOCATION:Jazzahead Messe Bremen\, Findorffstrasse 101\, Bfremen\, Duitsland
END:VEVENT
END:VCALENDAR