BEGIN:VCALENDAR
VERSION:2.0
PRODID:-//Foundation Paul van Kemenade - ECPv5.16.1//NONSGML v1.0//EN
CALSCALE:GREGORIAN
METHOD:PUBLISH
X-WR-CALNAME:Foundation Paul van Kemenade
X-ORIGINAL-URL:https://www.paulvankemenade.com
X-WR-CALDESC:Evenementen voor Foundation Paul van Kemenade
BEGIN:VTIMEZONE
TZID:Europe/Paris
BEGIN:DAYLIGHT
TZOFFSETFROM:+0100
TZOFFSETTO:+0200
TZNAME:CEST
DTSTART:20230326T010000
END:DAYLIGHT
BEGIN:STANDARD
TZOFFSETFROM:+0200
TZOFFSETTO:+0100
TZNAME:CET
DTSTART:20231029T010000
END:STANDARD
END:VTIMEZONE
BEGIN:VEVENT
DTSTART;VALUE=DATE:20230427
DTEND;VALUE=DATE:20230430
DTSTAMP:20260422T210151
CREATED:20230123T144713Z
LAST-MODIFIED:20230123T144713Z
UID:14327-1682553600-1682812799@www.paulvankemenade.com
SUMMARY:Jazzahead Paul van Kemenade april 27-28-29 at stand 6C03
DESCRIPTION:Messe Bremen
URL:https://www.paulvankemenade.com/agenda/jazzahead-paul-van-kemenade-april-27-28-29-at-stand-6c03/
LOCATION:Jazzahead Bremen Messe\, Bremen\, Duitsland
END:VEVENT
END:VCALENDAR