BEGIN:VCALENDAR
VERSION:2.0
PRODID:-//Foundation Paul van Kemenade - ECPv5.16.1//NONSGML v1.0//EN
CALSCALE:GREGORIAN
METHOD:PUBLISH
X-WR-CALNAME:Foundation Paul van Kemenade
X-ORIGINAL-URL:https://www.paulvankemenade.com
X-WR-CALDESC:Evenementen voor Foundation Paul van Kemenade
BEGIN:VTIMEZONE
TZID:Europe/Paris
BEGIN:DAYLIGHT
TZOFFSETFROM:+0100
TZOFFSETTO:+0200
TZNAME:CEST
DTSTART:20210328T010000
END:DAYLIGHT
BEGIN:STANDARD
TZOFFSETFROM:+0200
TZOFFSETTO:+0100
TZNAME:CET
DTSTART:20211031T010000
END:STANDARD
END:VTIMEZONE
BEGIN:VEVENT
DTSTART;TZID=Europe/Paris:20210607T203000
DTEND;TZID=Europe/Paris:20210607T220000
DTSTAMP:20260423T130741
CREATED:20200908T150252Z
LAST-MODIFIED:20210511T130935Z
UID:12599-1623097800-1623103200@www.paulvankemenade.com
SUMMARY:Zuid Nederlands Workshop Orkest (ZNWO)
DESCRIPTION:
URL:https://www.paulvankemenade.com/agenda/jongerenavond-met-3-groepen-o-a-zuid-nederlands-workshop-orkest-znwo-2/
LOCATION:Paradox\, Telegraafstraat 62\, Tilburg
END:VEVENT
END:VCALENDAR