BEGIN:VCALENDAR
VERSION:2.0
PRODID:-//Foundation Paul van Kemenade - ECPv5.16.1//NONSGML v1.0//EN
CALSCALE:GREGORIAN
METHOD:PUBLISH
X-WR-CALNAME:Foundation Paul van Kemenade
X-ORIGINAL-URL:https://www.paulvankemenade.com
X-WR-CALDESC:Evenementen voor Foundation Paul van Kemenade
BEGIN:VTIMEZONE
TZID:Europe/Paris
BEGIN:DAYLIGHT
TZOFFSETFROM:+0100
TZOFFSETTO:+0200
TZNAME:CEST
DTSTART:20210328T010000
END:DAYLIGHT
BEGIN:STANDARD
TZOFFSETFROM:+0200
TZOFFSETTO:+0100
TZNAME:CET
DTSTART:20211031T010000
END:STANDARD
END:VTIMEZONE
BEGIN:VEVENT
DTSTART;TZID=Europe/Paris:20210606T160000
DTEND;TZID=Europe/Paris:20210606T170000
DTSTAMP:20260423T144114
CREATED:20210302T130115Z
LAST-MODIFIED:20210527T153023Z
UID:12907-1622995200-1622998800@www.paulvankemenade.com
SUMMARY:Jongeren Zuid Nederlands Workshop Orkest
DESCRIPTION:grats tickets 30 man via website toonzaal
URL:https://www.paulvankemenade.com/agenda/jongerendag-avond-met-o-a-zuid-nederlands-workshop-orkest/
LOCATION:willem twee / toonzaal den bosch\, den Bosch
END:VEVENT
END:VCALENDAR