BEGIN:VCALENDAR
VERSION:2.0
PRODID:-//Foundation Paul van Kemenade - ECPv5.16.1//NONSGML v1.0//EN
CALSCALE:GREGORIAN
METHOD:PUBLISH
X-WR-CALNAME:Foundation Paul van Kemenade
X-ORIGINAL-URL:https://www.paulvankemenade.com
X-WR-CALDESC:Evenementen voor Foundation Paul van Kemenade
BEGIN:VTIMEZONE
TZID:Europe/Paris
BEGIN:DAYLIGHT
TZOFFSETFROM:+0100
TZOFFSETTO:+0200
TZNAME:CEST
DTSTART:20240331T010000
END:DAYLIGHT
BEGIN:STANDARD
TZOFFSETFROM:+0200
TZOFFSETTO:+0100
TZNAME:CET
DTSTART:20241027T010000
END:STANDARD
END:VTIMEZONE
BEGIN:VEVENT
DTSTART;TZID=Europe/Paris:20241109T200000
DTEND;TZID=Europe/Paris:20241109T235900
DTSTAMP:20260422T115209
CREATED:20240312T231945Z
LAST-MODIFIED:20241106T162924Z
UID:15044-1731182400-1731196740@www.paulvankemenade.com
SUMMARY:K.O.T.S. festival voor jongeren (Klanken Ontmoeten Talloze Stijlen)
DESCRIPTION:
URL:https://www.paulvankemenade.com/agenda/k-o-t-s-festival-voor-jongeren-klanken-ontmoeten-talloze-stijlen/
LOCATION:Phoenix\, Belcrumweg 60\, Breda
END:VEVENT
END:VCALENDAR