BEGIN:VCALENDAR
VERSION:2.0
PRODID:-//Foundation Paul van Kemenade - ECPv5.16.1//NONSGML v1.0//EN
CALSCALE:GREGORIAN
METHOD:PUBLISH
X-WR-CALNAME:Foundation Paul van Kemenade
X-ORIGINAL-URL:https://www.paulvankemenade.com
X-WR-CALDESC:Evenementen voor Foundation Paul van Kemenade
BEGIN:VTIMEZONE
TZID:Europe/Paris
BEGIN:DAYLIGHT
TZOFFSETFROM:+0100
TZOFFSETTO:+0200
TZNAME:CEST
DTSTART:20200329T010000
END:DAYLIGHT
BEGIN:STANDARD
TZOFFSETFROM:+0200
TZOFFSETTO:+0100
TZNAME:CET
DTSTART:20201025T010000
END:STANDARD
END:VTIMEZONE
BEGIN:VEVENT
DTSTART;TZID=Europe/Paris:20200529T203000
DTEND;TZID=Europe/Paris:20200529T230000
DTSTAMP:20260422T020527
CREATED:20190924T144143Z
LAST-MODIFIED:20190924T144143Z
UID:12522-1590784200-1590793200@www.paulvankemenade.com
SUMMARY:Majid Bekkas-Markku Ounaskari-Paul van Kemenade-Stevko Busch (CANCELLED)
DESCRIPTION:
URL:https://www.paulvankemenade.com/agenda/majid-bekkas-markku-ounaskari-paul-van-kemenade-stevko-busch-o-v-2/
LOCATION:Bimhuis\, Piet Heinkade 3\, Amsterdam
END:VEVENT
END:VCALENDAR