BEGIN:VCALENDAR
VERSION:2.0
PRODID:-//Foundation Paul van Kemenade - ECPv5.16.1//NONSGML v1.0//EN
CALSCALE:GREGORIAN
METHOD:PUBLISH
X-WR-CALNAME:Foundation Paul van Kemenade
X-ORIGINAL-URL:https://www.paulvankemenade.com
X-WR-CALDESC:Evenementen voor Foundation Paul van Kemenade
BEGIN:VTIMEZONE
TZID:Europe/Paris
BEGIN:DAYLIGHT
TZOFFSETFROM:+0100
TZOFFSETTO:+0200
TZNAME:CEST
DTSTART:20200329T010000
END:DAYLIGHT
BEGIN:STANDARD
TZOFFSETFROM:+0200
TZOFFSETTO:+0100
TZNAME:CET
DTSTART:20201025T010000
END:STANDARD
END:VTIMEZONE
BEGIN:VEVENT
DTSTART;TZID=Europe/Paris:20201202T203000
DTEND;TZID=Europe/Paris:20201202T230000
DTSTAMP:20260422T081222
CREATED:20200327T225613Z
LAST-MODIFIED:20200327T225613Z
UID:12556-1606941000-1606950000@www.paulvankemenade.com
SUMMARY:Majid Bekkas-Markku Ounaskari-Stevko Busch-Paul van Kemenade (CANCELLED)
DESCRIPTION:
URL:https://www.paulvankemenade.com/agenda/majid-bekkas-markku-ounaskari-stevko-busch-paul-van-kemenade-4/
LOCATION:JIN Brebl\, Nijmegen
END:VEVENT
END:VCALENDAR