BEGIN:VCALENDAR
VERSION:2.0
PRODID:-//Foundation Paul van Kemenade - ECPv5.16.1//NONSGML v1.0//EN
CALSCALE:GREGORIAN
METHOD:PUBLISH
X-WR-CALNAME:Foundation Paul van Kemenade
X-ORIGINAL-URL:https://www.paulvankemenade.com
X-WR-CALDESC:Evenementen voor Foundation Paul van Kemenade
BEGIN:VTIMEZONE
TZID:Europe/Paris
BEGIN:DAYLIGHT
TZOFFSETFROM:+0100
TZOFFSETTO:+0200
TZNAME:CEST
DTSTART:20200329T010000
END:DAYLIGHT
BEGIN:STANDARD
TZOFFSETFROM:+0200
TZOFFSETTO:+0100
TZNAME:CET
DTSTART:20201025T010000
END:STANDARD
END:VTIMEZONE
BEGIN:VEVENT
DTSTART;TZID=Europe/Paris:20200526T080000
DTEND;TZID=Europe/Paris:20200526T170000
DTSTAMP:20260424T123036
CREATED:20190215T024027Z
LAST-MODIFIED:20190215T024027Z
UID:12471-1590480000-1590512400@www.paulvankemenade.com
SUMMARY:Mankind Dansgezelschap De Stilte & Busch-Van Kemenade (CANCELLED)
DESCRIPTION:serie 6+ voorstellingen
URL:https://www.paulvankemenade.com/agenda/mankind-dansgezelschap-de-stilte-busch-van-kemenade-2/
LOCATION:Theater De Mythe\, Goes
END:VEVENT
END:VCALENDAR