BEGIN:VCALENDAR
VERSION:2.0
PRODID:-//Foundation Paul van Kemenade - ECPv5.16.1//NONSGML v1.0//EN
CALSCALE:GREGORIAN
METHOD:PUBLISH
X-WR-CALNAME:Foundation Paul van Kemenade
X-ORIGINAL-URL:https://www.paulvankemenade.com
X-WR-CALDESC:Evenementen voor Foundation Paul van Kemenade
BEGIN:VTIMEZONE
TZID:Europe/Paris
BEGIN:DAYLIGHT
TZOFFSETFROM:+0100
TZOFFSETTO:+0200
TZNAME:CEST
DTSTART:20210328T010000
END:DAYLIGHT
BEGIN:STANDARD
TZOFFSETFROM:+0200
TZOFFSETTO:+0100
TZNAME:CET
DTSTART:20211031T010000
END:STANDARD
END:VTIMEZONE
BEGIN:VEVENT
DTSTART;VALUE=DATE:20210617
DTEND;VALUE=DATE:20210618
DTSTAMP:20260423T112157
CREATED:20200717T100051Z
LAST-MODIFIED:20210529T014811Z
UID:12583-1623888000-1623974399@www.paulvankemenade.com
SUMMARY:Mankind De Stilte & Busch-Van Kemenade (CANCELLED)
DESCRIPTION:2x voorstelling 6+
URL:https://www.paulvankemenade.com/agenda/mankind-de-stilte-busch-van-kemenade-2/
LOCATION:De Boodschap\, Rijen
END:VEVENT
END:VCALENDAR