BEGIN:VCALENDAR
VERSION:2.0
PRODID:-//Foundation Paul van Kemenade - ECPv5.16.1//NONSGML v1.0//EN
CALSCALE:GREGORIAN
METHOD:PUBLISH
X-WR-CALNAME:Foundation Paul van Kemenade
X-ORIGINAL-URL:https://www.paulvankemenade.com
X-WR-CALDESC:Evenementen voor Foundation Paul van Kemenade
BEGIN:VTIMEZONE
TZID:Europe/Paris
BEGIN:DAYLIGHT
TZOFFSETFROM:+0100
TZOFFSETTO:+0200
TZNAME:CEST
DTSTART:20230326T010000
END:DAYLIGHT
BEGIN:STANDARD
TZOFFSETFROM:+0200
TZOFFSETTO:+0100
TZNAME:CET
DTSTART:20231029T010000
END:STANDARD
END:VTIMEZONE
BEGIN:VEVENT
DTSTART;TZID=Europe/Paris:20230316T110000
DTEND;TZID=Europe/Paris:20230316T120000
DTSTAMP:20260422T220752
CREATED:20221015T172350Z
LAST-MODIFIED:20221015T172350Z
UID:14098-1678964400-1678968000@www.paulvankemenade.com
SUMMARY:'Mankind' De Stilte & Busch-Van Kemenade
DESCRIPTION:
URL:https://www.paulvankemenade.com/agenda/mankind-de-stilte-busch-van-kemenade-5/
LOCATION:Theater de Kattendans\, Bergeijk
END:VEVENT
END:VCALENDAR