BEGIN:VCALENDAR
VERSION:2.0
PRODID:-//Foundation Paul van Kemenade - ECPv5.16.1//NONSGML v1.0//EN
CALSCALE:GREGORIAN
METHOD:PUBLISH
X-WR-CALNAME:Foundation Paul van Kemenade
X-ORIGINAL-URL:https://www.paulvankemenade.com
X-WR-CALDESC:Evenementen voor Foundation Paul van Kemenade
BEGIN:VTIMEZONE
TZID:Europe/Paris
BEGIN:DAYLIGHT
TZOFFSETFROM:+0100
TZOFFSETTO:+0200
TZNAME:CEST
DTSTART:20190331T010000
END:DAYLIGHT
BEGIN:STANDARD
TZOFFSETFROM:+0200
TZOFFSETTO:+0100
TZNAME:CET
DTSTART:20191027T010000
END:STANDARD
END:VTIMEZONE
BEGIN:VEVENT
DTSTART;TZID=Europe/Paris:20191026T150000
DTEND;TZID=Europe/Paris:20191026T160000
DTSTAMP:20260425T025413
CREATED:20190528T230719Z
LAST-MODIFIED:20190619T023015Z
UID:9457-1572102000-1572105600@www.paulvankemenade.com
SUMMARY:Mankind De Stilte & Van Kemenade - Busch
DESCRIPTION:
URL:https://www.paulvankemenade.com/agenda/mankind-de-stilte-van-kemenade-busch-11/
LOCATION:Podium Zuidhaege\, Assen
END:VEVENT
END:VCALENDAR