BEGIN:VCALENDAR
VERSION:2.0
PRODID:-//Foundation Paul van Kemenade - ECPv5.16.1//NONSGML v1.0//EN
CALSCALE:GREGORIAN
METHOD:PUBLISH
X-WR-CALNAME:Foundation Paul van Kemenade
X-ORIGINAL-URL:https://www.paulvankemenade.com
X-WR-CALDESC:Evenementen voor Foundation Paul van Kemenade
BEGIN:VTIMEZONE
TZID:Europe/Paris
BEGIN:DAYLIGHT
TZOFFSETFROM:+0100
TZOFFSETTO:+0200
TZNAME:CEST
DTSTART:20220327T010000
END:DAYLIGHT
BEGIN:STANDARD
TZOFFSETFROM:+0200
TZOFFSETTO:+0100
TZNAME:CET
DTSTART:20221030T010000
END:STANDARD
END:VTIMEZONE
BEGIN:VEVENT
DTSTART;VALUE=DATE:20220922
DTEND;VALUE=DATE:20221010
DTSTAMP:20260423T023948
CREATED:20220201T014745Z
LAST-MODIFIED:20220201T014745Z
UID:13677-1663804800-1665359999@www.paulvankemenade.com
SUMMARY:Mariá Portugal-Jasper Van 't Hof-Paul Van Kemenade
DESCRIPTION:In trio tour in Oostenrijk-Duitsland-Zwitserland tussen zondag 22 september en 09 oktober 2022
URL:https://www.paulvankemenade.com/agenda/maria-portugal-jasper-van-t-hof-paul-van-kemenade-2/
LOCATION:Austria-Germany-Switzerland
END:VEVENT
END:VCALENDAR