BEGIN:VCALENDAR
VERSION:2.0
PRODID:-//Foundation Paul van Kemenade - ECPv5.16.1//NONSGML v1.0//EN
CALSCALE:GREGORIAN
METHOD:PUBLISH
X-WR-CALNAME:Foundation Paul van Kemenade
X-ORIGINAL-URL:https://www.paulvankemenade.com
X-WR-CALDESC:Evenementen voor Foundation Paul van Kemenade
BEGIN:VTIMEZONE
TZID:Europe/Paris
BEGIN:DAYLIGHT
TZOFFSETFROM:+0100
TZOFFSETTO:+0200
TZNAME:CEST
DTSTART:20230326T010000
END:DAYLIGHT
BEGIN:STANDARD
TZOFFSETFROM:+0200
TZOFFSETTO:+0100
TZNAME:CET
DTSTART:20231029T010000
END:STANDARD
END:VTIMEZONE
BEGIN:VEVENT
DTSTART;TZID=Europe/Paris:20230623T203000
DTEND;TZID=Europe/Paris:20230623T230000
DTSTAMP:20260422T192102
CREATED:20220806T203805Z
LAST-MODIFIED:20221226T224752Z
UID:14001-1687552200-1687561200@www.paulvankemenade.com
SUMMARY:Paul van Kemenade & Hammond Sandwich
DESCRIPTION:Twee ronkende Hammondorganisten Carlo de Wijs en Arno Krijger in samenspraak met drummer Chris Strik en altist Paul van Kemenade & trompettist Jeroen Doomernik. Een Brabants ‘allstar’ quintet.
URL:https://www.paulvankemenade.com/agenda/maria-portugal-jasper-van-t-hof-paul-van-kemenade-3/
LOCATION:De Fruitvis\, Marconistraat\, Rotterdam\, Nederland
END:VEVENT
END:VCALENDAR