BEGIN:VCALENDAR
VERSION:2.0
PRODID:-//Foundation Paul van Kemenade - ECPv5.16.1//NONSGML v1.0//EN
CALSCALE:GREGORIAN
METHOD:PUBLISH
X-WR-CALNAME:Foundation Paul van Kemenade
X-ORIGINAL-URL:https://www.paulvankemenade.com
X-WR-CALDESC:Evenementen voor Foundation Paul van Kemenade
BEGIN:VTIMEZONE
TZID:Europe/Paris
BEGIN:DAYLIGHT
TZOFFSETFROM:+0100
TZOFFSETTO:+0200
TZNAME:CEST
DTSTART:20210328T010000
END:DAYLIGHT
BEGIN:STANDARD
TZOFFSETFROM:+0200
TZOFFSETTO:+0100
TZNAME:CET
DTSTART:20211031T010000
END:STANDARD
END:VTIMEZONE
BEGIN:VEVENT
DTSTART;TZID=Europe/Paris:20210725T151000
DTEND;TZID=Europe/Paris:20210725T221000
DTSTAMP:20260422T223322
CREATED:20210619T132400Z
LAST-MODIFIED:20210619T132400Z
UID:13455-1627225800-1627251000@www.paulvankemenade.com
SUMMARY:Mariá Portugal - Jasper van 't Hof - Paul van Kemenade
DESCRIPTION:6x 30 minuten programma voor iedere keer ander publiek vanaf middag 15.10 tm avond 22.10 uur tijdens ‘Walk the Line’ in Tivoli Vredenburg Cloud Nine
URL:https://www.paulvankemenade.com/agenda/maria-portugal-jasper-van-t-hof-paul-van-kemenade/
LOCATION:Tivoli Vredenburg Cloud Nine zaal\, Vredenburgkade 11\, Utrecht
END:VEVENT
END:VCALENDAR