BEGIN:VCALENDAR
VERSION:2.0
PRODID:-//Foundation Paul van Kemenade - ECPv5.16.1//NONSGML v1.0//EN
CALSCALE:GREGORIAN
METHOD:PUBLISH
X-WR-CALNAME:Foundation Paul van Kemenade
X-ORIGINAL-URL:https://www.paulvankemenade.com
X-WR-CALDESC:Evenementen voor Foundation Paul van Kemenade
BEGIN:VTIMEZONE
TZID:Europe/Paris
BEGIN:DAYLIGHT
TZOFFSETFROM:+0100
TZOFFSETTO:+0200
TZNAME:CEST
DTSTART:20220327T010000
END:DAYLIGHT
BEGIN:STANDARD
TZOFFSETFROM:+0200
TZOFFSETTO:+0100
TZNAME:CET
DTSTART:20221030T010000
END:STANDARD
END:VTIMEZONE
BEGIN:VEVENT
DTSTART;TZID=Europe/Paris:20220817T203000
DTEND;TZID=Europe/Paris:20220817T233000
DTSTAMP:20260423T040735
CREATED:20220503T081319Z
LAST-MODIFIED:20220503T081319Z
UID:13857-1660768200-1660779000@www.paulvankemenade.com
SUMMARY:Markus Stockhausen - Markku Ounaskari -Paul van Kemenade - Stefan Busch plus...tba
DESCRIPTION:
URL:https://www.paulvankemenade.com/agenda/markus-stockhausen-markku-ounaskari-paul-van-kemenade-stefan-busch-plus-tba/
LOCATION:Kunstfabrik Schlot Berlin\, Invalidenstrasse 117\, Berlin\, Duitsland
END:VEVENT
END:VCALENDAR