BEGIN:VCALENDAR
VERSION:2.0
PRODID:-//Foundation Paul van Kemenade - ECPv5.16.1//NONSGML v1.0//EN
CALSCALE:GREGORIAN
METHOD:PUBLISH
X-WR-CALNAME:Foundation Paul van Kemenade
X-ORIGINAL-URL:https://www.paulvankemenade.com
X-WR-CALDESC:Evenementen voor Foundation Paul van Kemenade
BEGIN:VTIMEZONE
TZID:Europe/Paris
BEGIN:DAYLIGHT
TZOFFSETFROM:+0100
TZOFFSETTO:+0200
TZNAME:CEST
DTSTART:20190331T010000
END:DAYLIGHT
BEGIN:STANDARD
TZOFFSETFROM:+0200
TZOFFSETTO:+0100
TZNAME:CET
DTSTART:20191027T010000
END:STANDARD
END:VTIMEZONE
BEGIN:VEVENT
DTSTART;TZID=Europe/Paris:20190310T140000
DTEND;TZID=Europe/Paris:20190310T170000
DTSTAMP:20260423T155927
CREATED:20180927T120538Z
LAST-MODIFIED:20180927T120657Z
UID:8863-1552226400-1552237200@www.paulvankemenade.com
SUMMARY:Maurice Leenaars c.s..... flamenco cross-over
DESCRIPTION:Maurice Leenaars – flamenco guitar\, Herman van Haaren – violin\, Ron van Holland – percussion\, Paul Hagenaars – guitar\, Lucas Beukers – bassguitar\, Paul van Kemenade – altsax.
URL:https://www.paulvankemenade.com/agenda/maurice-leenaars-c-s/
LOCATION:Paradox\, Telegraafstraat 62\, Tilburg
END:VEVENT
END:VCALENDAR