BEGIN:VCALENDAR
VERSION:2.0
PRODID:-//Foundation Paul van Kemenade - ECPv5.16.1//NONSGML v1.0//EN
CALSCALE:GREGORIAN
METHOD:PUBLISH
X-WR-CALNAME:Foundation Paul van Kemenade
X-ORIGINAL-URL:https://www.paulvankemenade.com
X-WR-CALDESC:Evenementen voor Foundation Paul van Kemenade
BEGIN:VTIMEZONE
TZID:Europe/Paris
BEGIN:DAYLIGHT
TZOFFSETFROM:+0100
TZOFFSETTO:+0200
TZNAME:CEST
DTSTART:20190331T010000
END:DAYLIGHT
BEGIN:STANDARD
TZOFFSETFROM:+0200
TZOFFSETTO:+0100
TZNAME:CET
DTSTART:20191027T010000
END:STANDARD
END:VTIMEZONE
BEGIN:VEVENT
DTSTART;TZID=Europe/Paris:20191019T203000
DTEND;TZID=Europe/Paris:20191019T233000
DTSTAMP:20260420T113304
CREATED:20180617T105027Z
LAST-MODIFIED:20180617T105027Z
UID:12398-1571517000-1571527800@www.paulvankemenade.com
SUMMARY:Moholo-Mlangeni-Yenana-Van Kemenade-Boudesteijn-Verploegen-Mahieu
DESCRIPTION:A new Dutch/South African collaboration with young trumpeter Mandla Mlangeni\, SA pianist Andile Yenana\, legendary SA drummer Louis Moholo\, Van Kemenade and his quartet Three Horns And A Bass (Verploegen-Boudesteijn-Mahieu). On tour between october 15 and october 31 in 2019.
URL:https://www.paulvankemenade.com/agenda/moholo-mlangeni-yenana-van-kemenade-boudesteijn-verploegen-mahieu-2-2/
LOCATION:Mahogany Hall\, Edam
END:VEVENT
END:VCALENDAR