BEGIN:VCALENDAR
VERSION:2.0
PRODID:-//Foundation Paul van Kemenade - ECPv5.16.1//NONSGML v1.0//EN
CALSCALE:GREGORIAN
METHOD:PUBLISH
X-WR-CALNAME:Foundation Paul van Kemenade
X-ORIGINAL-URL:https://www.paulvankemenade.com
X-WR-CALDESC:Evenementen voor Foundation Paul van Kemenade
BEGIN:VTIMEZONE
TZID:Europe/Paris
BEGIN:DAYLIGHT
TZOFFSETFROM:+0100
TZOFFSETTO:+0200
TZNAME:CEST
DTSTART:20190331T010000
END:DAYLIGHT
BEGIN:STANDARD
TZOFFSETFROM:+0200
TZOFFSETTO:+0100
TZNAME:CET
DTSTART:20191027T010000
END:STANDARD
END:VTIMEZONE
BEGIN:VEVENT
DTSTART;VALUE=DATE:20191021
DTEND;VALUE=DATE:20191022
DTSTAMP:20260422T165837
CREATED:20190824T083720Z
LAST-MODIFIED:20190824T085059Z
UID:10280-1571616000-1571702399@www.paulvankemenade.com
SUMMARY:Moholo-Mlangeni-Yenana-Van Kemenade-Boudesteijn-Verploegen-Mahieu\, cd recording
DESCRIPTION:Recordings for new cd with this new Dutch – South African collaboration.
URL:https://www.paulvankemenade.com/agenda/moholo-mlangeni-yenana-van-kemenade-boudesteijn-verploegen-mahieu-5/
LOCATION:Tafelbergstudio\, Tilburg
END:VEVENT
END:VCALENDAR