BEGIN:VCALENDAR
VERSION:2.0
PRODID:-//Foundation Paul van Kemenade - ECPv5.16.1//NONSGML v1.0//EN
CALSCALE:GREGORIAN
METHOD:PUBLISH
X-WR-CALNAME:Foundation Paul van Kemenade
X-ORIGINAL-URL:https://www.paulvankemenade.com
X-WR-CALDESC:Evenementen voor Foundation Paul van Kemenade
BEGIN:VTIMEZONE
TZID:Europe/Paris
BEGIN:DAYLIGHT
TZOFFSETFROM:+0100
TZOFFSETTO:+0200
TZNAME:CEST
DTSTART:20190331T010000
END:DAYLIGHT
BEGIN:STANDARD
TZOFFSETFROM:+0200
TZOFFSETTO:+0100
TZNAME:CET
DTSTART:20191027T010000
END:STANDARD
END:VTIMEZONE
BEGIN:VEVENT
DTSTART;VALUE=DATE:20191025
DTEND;VALUE=DATE:20191026
DTSTAMP:20260425T025547
CREATED:20190104T045448Z
LAST-MODIFIED:20190104T045448Z
UID:12448-1571961600-1572047999@www.paulvankemenade.com
SUMMARY:Moholo-Mlangeni-Yenana (ihkv tour Van Kemenade's Three Horns And A Bass)
DESCRIPTION:Masterclass/workshop Moholo-Yenana-Mlangeni op o.a. conservatorium ArtEZ Arnhem
URL:https://www.paulvankemenade.com/agenda/moholo-mlangeni-yenana-van-kemenades-three-horns-and-a-bass-o-v-2/
LOCATION:ArtEZ\, Nijmegen
END:VEVENT
END:VCALENDAR