BEGIN:VCALENDAR
VERSION:2.0
PRODID:-//Foundation Paul van Kemenade - ECPv5.16.1//NONSGML v1.0//EN
CALSCALE:GREGORIAN
METHOD:PUBLISH
X-WR-CALNAME:Foundation Paul van Kemenade
X-ORIGINAL-URL:https://www.paulvankemenade.com
X-WR-CALDESC:Evenementen voor Foundation Paul van Kemenade
BEGIN:VTIMEZONE
TZID:Europe/Paris
BEGIN:DAYLIGHT
TZOFFSETFROM:+0100
TZOFFSETTO:+0200
TZNAME:CEST
DTSTART:20210328T010000
END:DAYLIGHT
BEGIN:STANDARD
TZOFFSETFROM:+0200
TZOFFSETTO:+0100
TZNAME:CET
DTSTART:20211031T010000
END:STANDARD
END:VTIMEZONE
BEGIN:VEVENT
DTSTART;TZID=Europe/Paris:20211025T193000
DTEND;TZID=Europe/Paris:20211025T220000
DTSTAMP:20260423T095045
CREATED:20210425T123507Z
LAST-MODIFIED:20210425T123507Z
UID:13348-1635190200-1635199200@www.paulvankemenade.com
SUMMARY:Nederlands Workshop Orkest (ZNWO) olv Van Kemenade en Doomernik
DESCRIPTION:
URL:https://www.paulvankemenade.com/agenda/nederlands-workshop-orkest-znwo-olv-van-kemenade-en-doomernik-3/
LOCATION:Jazz werkplaats\, Tramkade\, Den Bosch
END:VEVENT
END:VCALENDAR